BEGIN:VCALENDAR
VERSION:2.0
PRODID:-//Take Note Troupe - ECPv6.15.20//NONSGML v1.0//EN
CALSCALE:GREGORIAN
METHOD:PUBLISH
X-WR-CALNAME:Take Note Troupe
X-ORIGINAL-URL:https://takenotetroupe.org
X-WR-CALDESC:Events for Take Note Troupe
REFRESH-INTERVAL;VALUE=DURATION:PT1H
X-Robots-Tag:noindex
X-PUBLISHED-TTL:PT1H
BEGIN:VTIMEZONE
TZID:America/Los_Angeles
BEGIN:DAYLIGHT
TZOFFSETFROM:-0800
TZOFFSETTO:-0700
TZNAME:PDT
DTSTART:20250309T100000
END:DAYLIGHT
BEGIN:STANDARD
TZOFFSETFROM:-0700
TZOFFSETTO:-0800
TZNAME:PST
DTSTART:20251102T090000
END:STANDARD
BEGIN:DAYLIGHT
TZOFFSETFROM:-0800
TZOFFSETTO:-0700
TZNAME:PDT
DTSTART:20260308T100000
END:DAYLIGHT
BEGIN:STANDARD
TZOFFSETFROM:-0700
TZOFFSETTO:-0800
TZNAME:PST
DTSTART:20261101T090000
END:STANDARD
BEGIN:DAYLIGHT
TZOFFSETFROM:-0800
TZOFFSETTO:-0700
TZNAME:PDT
DTSTART:20270314T100000
END:DAYLIGHT
BEGIN:STANDARD
TZOFFSETFROM:-0700
TZOFFSETTO:-0800
TZNAME:PST
DTSTART:20271107T090000
END:STANDARD
END:VTIMEZONE
BEGIN:VEVENT
DTSTART;TZID=America/Los_Angeles:20260604T193000
DTEND;TZID=America/Los_Angeles:20260604T220000
DTSTAMP:20260422T044525
CREATED:20251126T214649Z
LAST-MODIFIED:20260306T212936Z
UID:22045-1780601400-1780610400@takenotetroupe.org
SUMMARY:Shakespeare in the Park: Taming of the Shrew\, MainStage
DESCRIPTION:Take Note Troupe’s production of The Taming of the Shrew is a lively\, laugh-filled comedy the whole family can enjoy.\n\n\n\nThe story follows the strong-willed Katherina and the confident\, quick-talking Petruchio as their playful battle of words turns into one of Shakespeare’s most outrageous romances. Along the way\, silly disguises\, mistaken identities\, and over-the-top suitors create plenty of comic chaos as Katherina’s sister Bianca finds herself at the center of the fun. Presented as a colorful Bollywood-style outdoor production\, this high-energy performance features vibrant characters\, joyful movement\, and big laughs—perfect for families\, picnics in the park\, and a fun evening together at your local park. For inquiries please email tntshows@gmail.com. \n\n\n\n\n\nThings to Keep in Mind\n\n\n\nBring low-backed chairs that sit close to the ground or picnic blankets and a light jacket for after dark. We recommend picking up dinner at a local eatery to enjoy during the show. Please plan to arrive between 6:30 pm and 7:15 pm so that we can help you find a seat. The show will begin at 7:30 pm. \n\n\n\n \n\n\n\n\n\n\n\n\n\n\n\n\n\n\n\n\n\n\n\nLearn more about Shakespeare in the Park \n\n\n\n#ShakespeareInThePark #TamingOfTheShrew #ArtsInCAParks #TakeNoteTroupePresents @CalArtsCouncil
URL:https://takenotetroupe.org/event/taming-of-the-shrew-shakespeare-in-the-park-4/
LOCATION:Village Park Band Shell – Fair Oaks\, 7997 California Ave.\, Fair Oaks\, CA\, 95628\, United States
CATEGORIES:MainStage,Performances
ATTACH;FMTTYPE=image/jpeg:https://takenotetroupe.org/wp-content/uploads/2026/02/TOTS-1x1-2_17.jpg
END:VEVENT
BEGIN:VEVENT
DTSTART;TZID=America/Los_Angeles:20260605T193000
DTEND;TZID=America/Los_Angeles:20260605T220000
DTSTAMP:20260422T044525
CREATED:20251126T214725Z
LAST-MODIFIED:20260306T212936Z
UID:22048-1780687800-1780696800@takenotetroupe.org
SUMMARY:Shakespeare in the Park: Taming of the Shrew\, MainStage
DESCRIPTION:Take Note Troupe’s production of The Taming of the Shrew is a lively\, laugh-filled comedy the whole family can enjoy.\n\n\n\nThe story follows the strong-willed Katherina and the confident\, quick-talking Petruchio as their playful battle of words turns into one of Shakespeare’s most outrageous romances. Along the way\, silly disguises\, mistaken identities\, and over-the-top suitors create plenty of comic chaos as Katherina’s sister Bianca finds herself at the center of the fun. Presented as a colorful Bollywood-style outdoor production\, this high-energy performance features vibrant characters\, joyful movement\, and big laughs—perfect for families\, picnics in the park\, and a fun evening together at your local park. For inquiries please email tntshows@gmail.com. \n\n\n\n\n\nThings to Keep in Mind\n\n\n\nBring low-backed chairs that sit close to the ground or picnic blankets and a light jacket for after dark. We recommend picking up dinner at a local eatery to enjoy during the show. Please plan to arrive between 6:30 pm and 7:15 pm so that we can help you find a seat. The show will begin at 7:30 pm. \n\n\n\n \n\n\n\n\n\n\n\n\n\n\n\n\n\n\n\n\n\n\n\nLearn more about Shakespeare in the Park \n\n\n\n#ShakespeareInThePark #TamingOfTheShrew #ArtsInCAParks #TakeNoteTroupePresents @CalArtsCouncil
URL:https://takenotetroupe.org/event/taming-of-the-shrew-shakespeare-in-the-park-5/
LOCATION:Village Park Band Shell – Fair Oaks\, 7997 California Ave.\, Fair Oaks\, CA\, 95628\, United States
CATEGORIES:MainStage,Performances
ATTACH;FMTTYPE=image/jpeg:https://takenotetroupe.org/wp-content/uploads/2026/02/TOTS-1x1-2_17.jpg
END:VEVENT
BEGIN:VEVENT
DTSTART;TZID=America/Los_Angeles:20260606T193000
DTEND;TZID=America/Los_Angeles:20260606T220000
DTSTAMP:20260422T044525
CREATED:20251126T214755Z
LAST-MODIFIED:20260306T213101Z
UID:22051-1780774200-1780783200@takenotetroupe.org
SUMMARY:Shakespeare in the Park: Taming of the Shrew\, MainStage
DESCRIPTION:Take Note Troupe’s production of The Taming of the Shrew is a lively\, laugh-filled comedy the whole family can enjoy.\n\n\n\nThe story follows the strong-willed Katherina and the confident\, quick-talking Petruchio as their playful battle of words turns into one of Shakespeare’s most outrageous romances. Along the way\, silly disguises\, mistaken identities\, and over-the-top suitors create plenty of comic chaos as Katherina’s sister Bianca finds herself at the center of the fun. Presented as a colorful Bollywood-style outdoor production\, this high-energy performance features vibrant characters\, joyful movement\, and big laughs—perfect for families\, picnics in the park\, and a fun evening together at your local park. For inquiries please email tntshows@gmail.com. \n\n\n\n\n\nThings to Keep in Mind\n\n\n\nBring low-backed chairs that sit close to the ground or picnic blankets and a light jacket for after dark. We recommend picking up dinner at a local eatery to enjoy during the show. Please plan to arrive between 6:30 pm and 7:15 pm so that we can help you find a seat. The show will begin at 7:30 pm. \n\n\n\n \n\n\n\n\n\n\n\n\n\n\n\n\n\n\n\n\n\n\n\nLearn more about Shakespeare in the Park \n\n\n\n#ShakespeareInThePark #TamingOfTheShrew #ArtsInCAParks #TakeNoteTroupePresents @CalArtsCouncil
URL:https://takenotetroupe.org/event/taming-of-the-shrew-shakespeare-in-the-park-6/
LOCATION:Village Park Band Shell – Fair Oaks\, 7997 California Ave.\, Fair Oaks\, CA\, 95628\, United States
CATEGORIES:MainStage,Performances
ATTACH;FMTTYPE=image/jpeg:https://takenotetroupe.org/wp-content/uploads/2026/02/TOTS-1x1-2_17.jpg
END:VEVENT
BEGIN:VEVENT
DTSTART;TZID=America/Los_Angeles:20260610T193000
DTEND;TZID=America/Los_Angeles:20260610T220000
DTSTAMP:20260422T044525
CREATED:20251126T214824Z
LAST-MODIFIED:20260306T220609Z
UID:22037-1781119800-1781128800@takenotetroupe.org
SUMMARY:Shakespeare in the Park: Taming of the Shrew\, MainStage
DESCRIPTION:Take Note Troupe’s production of The Taming of the Shrew is a lively\, laugh-filled comedy the whole family can enjoy.\n\n\n\nThe story follows the strong-willed Katherina and the confident\, quick-talking Petruchio as their playful battle of words turns into one of Shakespeare’s most outrageous romances. Along the way\, silly disguises\, mistaken identities\, and over-the-top suitors create plenty of comic chaos as Katherina’s sister Bianca finds herself at the center of the fun. Presented as a colorful Bollywood-style outdoor production\, this high-energy performance features vibrant characters\, joyful movement\, and big laughs—perfect for families\, picnics in the park\, and a fun evening together at your local park. For inquiries please email tntshows@gmail.com. \n\n\n\n\n\nThings to Keep in Mind\n\n\n\nBring low-backed chairs that sit close to the ground or picnic blankets and a light jacket for after dark. We recommend picking up dinner at a local eatery to enjoy during the show. Please plan to arrive between 6:30 pm and 7:15 pm so that we can help you find a seat. The show will begin at 7:30 pm. \n\n\n\n \n\n\n\n\n\n\n\n\n\n\n\n\n\n\n\n\n\n\n\nLearn more about Shakespeare in the Park \n\n\n\n#ShakespeareInThePark #TamingOfTheShrew #ArtsInCAParks #TakeNoteTroupePresents @CalArtsCouncil
URL:https://takenotetroupe.org/event/taming-of-the-shrew-shakespeare-in-the-park-7/
LOCATION:Quarry Park Amphitheater – Rocklin\, 4000 Rocklin Road\, Rocklin\, CA\, 95677\, United States
CATEGORIES:MainStage,Performances
ATTACH;FMTTYPE=image/jpeg:https://takenotetroupe.org/wp-content/uploads/2026/02/TOTS-1x1-2_17.jpg
END:VEVENT
BEGIN:VEVENT
DTSTART;TZID=America/Los_Angeles:20260611T193000
DTEND;TZID=America/Los_Angeles:20260611T220000
DTSTAMP:20260422T044525
CREATED:20251126T214923Z
LAST-MODIFIED:20260306T220616Z
UID:22039-1781206200-1781215200@takenotetroupe.org
SUMMARY:Shakespeare in the Park: Taming of the Shrew\, MainStage
DESCRIPTION:Take Note Troupe’s production of The Taming of the Shrew is a lively\, laugh-filled comedy the whole family can enjoy.\n\n\n\nThe story follows the strong-willed Katherina and the confident\, quick-talking Petruchio as their playful battle of words turns into one of Shakespeare’s most outrageous romances. Along the way\, silly disguises\, mistaken identities\, and over-the-top suitors create plenty of comic chaos as Katherina’s sister Bianca finds herself at the center of the fun. Presented as a colorful Bollywood-style outdoor production\, this high-energy performance features vibrant characters\, joyful movement\, and big laughs—perfect for families\, picnics in the park\, and a fun evening together at your local park. For inquiries\, please email tntshows@gmail.com. \n\n\n\n\n\nThings to Keep in Mind\n\n\n\nBring low-backed chairs that sit close to the ground or picnic blankets and a light jacket for after dark. We recommend picking up dinner at a local eatery to enjoy during the show. Please plan to arrive between 6:30 pm and 7:15 pm so that we can help you find a seat. The show will begin at 7:30 pm. \n\n\n\n \n\n\n\n\n\n\n\n\n\n\n\n\n\n\n\n\n\n\n\nLearn more about Shakespeare in the Park \n\n\n\n#ShakespeareInThePark #TamingOfTheShrew #ArtsInCAParks #TakeNoteTroupePresents @CalArtsCouncil
URL:https://takenotetroupe.org/event/taming-of-the-shrew-shakespeare-in-the-park-9/
LOCATION:Quarry Park Amphitheater – Rocklin\, 4000 Rocklin Road\, Rocklin\, CA\, 95677\, United States
CATEGORIES:MainStage,Performances
ATTACH;FMTTYPE=image/jpeg:https://takenotetroupe.org/wp-content/uploads/2026/02/TOTS-1x1-2_17.jpg
END:VEVENT
BEGIN:VEVENT
DTSTART;TZID=America/Los_Angeles:20260612T193000
DTEND;TZID=America/Los_Angeles:20260612T220000
DTSTAMP:20260422T044525
CREATED:20251126T214856Z
LAST-MODIFIED:20260306T220632Z
UID:22041-1781292600-1781301600@takenotetroupe.org
SUMMARY:Shakespeare in the Park: Taming of the Shrew\, MainStage
DESCRIPTION:Take Note Troupe’s production of The Taming of the Shrew is a lively\, laugh-filled comedy the whole family can enjoy.\n\n\n\nThe story follows the strong-willed Katherina and the confident\, quick-talking Petruchio as their playful battle of words turns into one of Shakespeare’s most outrageous romances. Along the way\, silly disguises\, mistaken identities\, and over-the-top suitors create plenty of comic chaos as Katherina’s sister Bianca finds herself at the center of the fun. Presented as a colorful Bollywood-style outdoor production\, this high-energy performance features vibrant characters\, joyful movement\, and big laughs—perfect for families\, picnics in the park\, and a fun evening together at your local park. For inquiries\, please email tntshows@gmail.com. \n\n\n\n\n\nThings to Keep in Mind\n\n\n\nBring low-backed chairs that sit close to the ground or picnic blankets and a light jacket for after dark. We recommend picking up dinner at a local eatery to enjoy during the show. Please plan to arrive between 6:30 pm and 7:15 pm so that we can help you find a seat. The show will begin at 7:30 pm. \n\n\n\n \n\n\n\n\n\n\n\n\n\n\n\n\n\n\n\n\n\n\n\nLearn more about Shakespeare in the Park \n\n\n\n#ShakespeareInThePark #TamingOfTheShrew #ArtsInCAParks #TakeNoteTroupePresents @CalArtsCouncil
URL:https://takenotetroupe.org/event/taming-of-the-shrew-shakespeare-in-the-park-8/
LOCATION:Quarry Park Amphitheater – Rocklin\, 4000 Rocklin Road\, Rocklin\, CA\, 95677\, United States
CATEGORIES:MainStage,Performances
ATTACH;FMTTYPE=image/jpeg:https://takenotetroupe.org/wp-content/uploads/2026/02/TOTS-1x1-2_17.jpg
END:VEVENT
BEGIN:VEVENT
DTSTART;TZID=America/Los_Angeles:20260613T193000
DTEND;TZID=America/Los_Angeles:20260613T220000
DTSTAMP:20260422T044525
CREATED:20251126T214951Z
LAST-MODIFIED:20260306T220706Z
UID:22043-1781379000-1781388000@takenotetroupe.org
SUMMARY:Shakespeare in the Park: Taming of the Shrew\, MainStage
DESCRIPTION:Take Note Troupe’s production of The Taming of the Shrew is a lively\, laugh-filled comedy the whole family can enjoy.\n\n\n\nThe story follows the strong-willed Katherina and the confident\, quick-talking Petruchio as their playful battle of words turns into one of Shakespeare’s most outrageous romances. Along the way\, silly disguises\, mistaken identities\, and over-the-top suitors create plenty of comic chaos as Katherina’s sister Bianca finds herself at the center of the fun. Presented as a colorful Bollywood-style outdoor production\, this high-energy performance features vibrant characters\, joyful movement\, and big laughs—perfect for families\, picnics in the park\, and a fun evening together at your local park. For inquiries\, please email tntshows@gmail.com. \n\n\n\n\n\nThings to Keep in Mind\n\n\n\nBring low-backed chairs that sit close to the ground or picnic blankets and a light jacket for after dark. We recommend picking up dinner at a local eatery to enjoy during the show. Please plan to arrive between 6:30 pm and 7:15 pm so that we can help you find a seat. The show will begin at 7:30 pm. \n\n\n\n \n\n\n\n\n\n\n\n\n\n\n\n\n\n\n\n\n\n\n\nLearn more about Shakespeare in the Park \n\n\n\n#ShakespeareInThePark #TamingOfTheShrew #ArtsInCAParks #TakeNoteTroupePresents @CalArtsCouncil
URL:https://takenotetroupe.org/event/taming-of-the-shrew-shakespeare-in-the-park-10/
LOCATION:Quarry Park Amphitheater – Rocklin\, 4000 Rocklin Road\, Rocklin\, CA\, 95677\, United States
CATEGORIES:MainStage,Performances
ATTACH;FMTTYPE=image/jpeg:https://takenotetroupe.org/wp-content/uploads/2026/02/TOTS-1x1-2_17.jpg
END:VEVENT
BEGIN:VEVENT
DTSTART;TZID=America/Los_Angeles:20260620T190000
DTEND;TZID=America/Los_Angeles:20260620T203000
DTSTAMP:20260422T044525
CREATED:20251120T205928Z
LAST-MODIFIED:20260421T002955Z
UID:21896-1781982000-1781987400@takenotetroupe.org
SUMMARY:On The Spot Improv
DESCRIPTION:Don’t miss the last show of the season with THIS team! Come and kickoff the summer and wish the graduating seniors the best of luck in their future improvising.On the Spot Improv is an audition-only\, top tier improv team made up of high school students from throughout the area. \n\n\n\nYou’ll love our award-winning\, ALWAYS family-friendly comedy nights. They make a perfect date night\, family fun night\, or just out-with-the-friends event. \n\n\n\nTickets
URL:https://takenotetroupe.org/event/on-the-spot-improv-11/
LOCATION:Take Note Troupe Studio\, 9001 Foothills Blvd.\, Suite 130\, Roseville\, CA\, 95747\, United States
CATEGORIES:On the Spot Improv
ATTACH;FMTTYPE=image/png:https://takenotetroupe.org/wp-content/uploads/2023/02/OTS-color_LOW-REZ.png
END:VEVENT
END:VCALENDAR