BEGIN:VCALENDAR
VERSION:2.0
PRODID:-//Take Note Troupe - ECPv6.15.20//NONSGML v1.0//EN
CALSCALE:GREGORIAN
METHOD:PUBLISH
X-ORIGINAL-URL:https://takenotetroupe.org
X-WR-CALDESC:Events for Take Note Troupe
REFRESH-INTERVAL;VALUE=DURATION:PT1H
X-Robots-Tag:noindex
X-PUBLISHED-TTL:PT1H
BEGIN:VTIMEZONE
TZID:America/Los_Angeles
BEGIN:DAYLIGHT
TZOFFSETFROM:-0800
TZOFFSETTO:-0700
TZNAME:PDT
DTSTART:20250309T100000
END:DAYLIGHT
BEGIN:STANDARD
TZOFFSETFROM:-0700
TZOFFSETTO:-0800
TZNAME:PST
DTSTART:20251102T090000
END:STANDARD
BEGIN:DAYLIGHT
TZOFFSETFROM:-0800
TZOFFSETTO:-0700
TZNAME:PDT
DTSTART:20260308T100000
END:DAYLIGHT
BEGIN:STANDARD
TZOFFSETFROM:-0700
TZOFFSETTO:-0800
TZNAME:PST
DTSTART:20261101T090000
END:STANDARD
BEGIN:DAYLIGHT
TZOFFSETFROM:-0800
TZOFFSETTO:-0700
TZNAME:PDT
DTSTART:20270314T100000
END:DAYLIGHT
BEGIN:STANDARD
TZOFFSETFROM:-0700
TZOFFSETTO:-0800
TZNAME:PST
DTSTART:20271107T090000
END:STANDARD
END:VTIMEZONE
BEGIN:VEVENT
DTSTART;TZID=America/Los_Angeles:20260509T190000
DTEND;TZID=America/Los_Angeles:20260509T203000
DTSTAMP:20260422T021926
CREATED:20251120T035946Z
LAST-MODIFIED:20260415T023727Z
UID:21886-1778353200-1778358600@takenotetroupe.org
SUMMARY:On The Spot Improv
DESCRIPTION:🪐✨Coming soon to a galaxy far far away (and also to Roseville)\, the On the Spot Star Show! Join us May 9th at 7pm for an out of this world experience. \n\n\n\nThis show was formerly announced as the Mom Show—but hey\, we’re improvisors and we pivoted 😂. Give us a giant “Yes\, And” by coming to see it! Lightsabers and wookie sidekicks are welcome! \n\n\n\n#RosevilleEvents #LiveComedy #ImprovComedy #FamilyFun #GalaxyFarFarAwayOn the Spot Improv is an audition-only\, top tier improv team made up of high school students from throughout the area. \n\n\n\nYou’ll love our award-winning\, ALWAYS family-friendly comedy nights. They make a perfect date night\, family fun night\, or just out-with-the-friends event. \n\n\n\nTickets
URL:https://takenotetroupe.org/event/on-the-spot-improv-10/
LOCATION:Take Note Troupe Studio\, 9001 Foothills Blvd.\, Suite 130\, Roseville\, CA\, 95747\, United States
CATEGORIES:On the Spot Improv
ATTACH;FMTTYPE=image/png:https://takenotetroupe.org/wp-content/uploads/2023/02/OTS-color_LOW-REZ.png
END:VEVENT
BEGIN:VEVENT
DTSTART;TZID=America/Los_Angeles:20260515T160000
DTEND;TZID=America/Los_Angeles:20260515T173000
DTSTAMP:20260422T021926
CREATED:20260402T001131Z
LAST-MODIFIED:20260409T233406Z
UID:28568-1778860800-1778866200@takenotetroupe.org
SUMMARY:Music & Rhythm Play Theory Workshop with Coach Bronwen
DESCRIPTION:Come learn and practice Play Theory with games\, music\, and rhythm. Led by TNT Alumna Bronwen Thomas and some of your other favorite youth coaches\, this will be a fun workshop for 8-12 year olds. \n\n\n\n✨ Special Offer: Bring a friend who’s NEW to TNT and you’ll get BOGO admission! That’s two participants for the price of one — double the fun\, double the PLAY THEORY! **If you enroll online\, leave us a note in the comments for the BOGO offer and their name.Sign up here to let us know you’re coming (but you can also drop in to the workshop and pay at the door). \n\n\n\nCome play\, practice happiness skills\, and grow your confidence on (and off) the stage! \n\n\n\nTickets
URL:https://takenotetroupe.org/event/music-rhythm-play-theory-workshop-with-coach-bronwen/
LOCATION:Take Note Troupe Studio\, 9001 Foothills Blvd.\, Suite 130\, Roseville\, CA\, 95747\, United States
CATEGORIES:Workshop
ATTACH;FMTTYPE=image/png:https://takenotetroupe.org/wp-content/uploads/2026/04/May-Music-Rhythm-Workshop-1x1-1.png
END:VEVENT
BEGIN:VEVENT
DTSTART;TZID=America/Los_Angeles:20260528T193000
DTEND;TZID=America/Los_Angeles:20260528T220000
DTSTAMP:20260422T021926
CREATED:20251126T214423Z
LAST-MODIFIED:20260306T213505Z
UID:22070-1779996600-1780005600@takenotetroupe.org
SUMMARY:Shakespeare in the Park: Taming of the Shrew\, MainStage
DESCRIPTION:Take Note Troupe’s production of The Taming of the Shrew is a lively\, laugh-filled comedy the whole family can enjoy.\n\n\n\nThe story follows the strong-willed Katherina and the confident\, quick-talking Petruchio as their playful battle of words turns into one of Shakespeare’s most outrageous romances. Along the way\, silly disguises\, mistaken identities\, and over-the-top suitors create plenty of comic chaos as Katherina’s sister Bianca finds herself at the center of the fun. Presented as a colorful Bollywood-style outdoor production\, this high-energy performance features vibrant characters\, joyful movement\, and big laughs—perfect for families\, picnics in the park\, and a fun evening together at your local park. For inquiries\, please email tntshows@gmail.com. \n\n\n\n\n\nThings to Keep in Mind\n\n\n\nBring low-backed chairs that sit close to the ground or picnic blankets and a light jacket for after dark. We recommend picking up dinner at a local eatery to enjoy during the show. Please plan to arrive between 6:30 pm and 7:15 pm so that we can help you find a seat. The show will begin at 7:30 pm. \n\n\n\n\n\n\n\n\n\n\n\n\n\n\n\n\n\n\n\nLearn more about Shakespeare in the Park \n\n\n\n#ShakespeareInThePark #TamingOfTheShrew #ArtsInCAParks #TakeNoteTroupePresents @CalArtsCouncil
URL:https://takenotetroupe.org/event/taming-of-the-shrew-shakespeare-in-the-park/
LOCATION:Bridgeway Christian Church Building A – Roseville\, 8150 Industrial Ave\, Building A\, Roseville\, CA\, 95678\, United States
CATEGORIES:MainStage,Performances
ATTACH;FMTTYPE=image/jpeg:https://takenotetroupe.org/wp-content/uploads/2026/02/TOTS-1x1-2_17.jpg
END:VEVENT
BEGIN:VEVENT
DTSTART;TZID=America/Los_Angeles:20260529T193000
DTEND;TZID=America/Los_Angeles:20260529T220000
DTSTAMP:20260422T021926
CREATED:20251126T214514Z
LAST-MODIFIED:20260306T212805Z
UID:22053-1780083000-1780092000@takenotetroupe.org
SUMMARY:Shakespeare in the Park: Taming of the Shrew\, MainStage
DESCRIPTION:Take Note Troupe’s production of The Taming of the Shrew is a lively\, laugh-filled comedy the whole family can enjoy.\n\n\n\nThe story follows the strong-willed Katherina and the confident\, quick-talking Petruchio as their playful battle of words turns into one of Shakespeare’s most outrageous romances. Along the way\, silly disguises\, mistaken identities\, and over-the-top suitors create plenty of comic chaos as Katherina’s sister Bianca finds herself at the center of the fun. Presented as a colorful Bollywood-style outdoor production\, this high-energy performance features vibrant characters\, joyful movement\, and big laughs—perfect for families\, picnics in the park\, and a fun evening together at your local park. For inquiries please email tntshows@gmail.com. \n\n\n\n\n\nThings to Keep in Mind\n\n\n\nBring low-backed chairs that sit close to the ground or picnic blankets and a light jacket for after dark. We recommend picking up dinner at a local eatery to enjoy during the show. Please plan to arrive between 6:30 pm and 7:15 pm so that we can help you find a seat. The show will begin at 7:30 pm. \n\n\n\n \n\n\n\n\n\n\n\n\n\n\n\n\n\n\n\n\n\n\n\nLearn more about Shakespeare in the Park \n\n\n\n#ShakespeareInThePark #TamingOfTheShrew #ArtsInCAParks #TakeNoteTroupePresents @CalArtsCouncil
URL:https://takenotetroupe.org/event/taming-of-the-shrew-shakespeare-in-the-park-2/
LOCATION:Zittel Family Amphitheater – Folsom Historic District\, Zittel Family Amphitheater - Folsom Historic District\, 200 Wool St\, Folsom\, CA\, 95630\, United States
CATEGORIES:MainStage,Performances
ATTACH;FMTTYPE=image/jpeg:https://takenotetroupe.org/wp-content/uploads/2026/02/TOTS-1x1-2_17.jpg
END:VEVENT
BEGIN:VEVENT
DTSTART;TZID=America/Los_Angeles:20260530T193000
DTEND;TZID=America/Los_Angeles:20260530T220000
DTSTAMP:20260422T021926
CREATED:20251126T214614Z
LAST-MODIFIED:20260306T212813Z
UID:22055-1780169400-1780178400@takenotetroupe.org
SUMMARY:Shakespeare in the Park: Taming of the Shrew\, MainStage
DESCRIPTION:Take Note Troupe’s production of The Taming of the Shrew is a lively\, laugh-filled comedy the whole family can enjoy.\n\n\n\nThe story follows the strong-willed Katherina and the confident\, quick-talking Petruchio as their playful battle of words turns into one of Shakespeare’s most outrageous romances. Along the way\, silly disguises\, mistaken identities\, and over-the-top suitors create plenty of comic chaos as Katherina’s sister Bianca finds herself at the center of the fun. Presented as a colorful Bollywood-style outdoor production\, this high-energy performance features vibrant characters\, joyful movement\, and big laughs—perfect for families\, picnics in the park\, and a fun evening together at your local park. For inquiries please email tntshows@gmail.com. \n\n\n\n\n\nThings to Keep in Mind\n\n\n\nBring low-backed chairs that sit close to the ground or picnic blankets and a light jacket for after dark. We recommend picking up dinner at a local eatery to enjoy during the show. Please plan to arrive between 6:30 pm and 7:15 pm so that we can help you find a seat. The show will begin at 7:30 pm. \n\n\n\n \n\n\n\n\n\n\n\n\n\n\n\n\n\n\n\n\n\n\n\nLearn more about Shakespeare in the Park \n\n\n\n#ShakespeareInThePark #TamingOfTheShrew #ArtsInCAParks #TakeNoteTroupePresents @CalArtsCouncil
URL:https://takenotetroupe.org/event/taming-of-the-shrew-shakespeare-in-the-park-3/
LOCATION:Zittel Family Amphitheater – Folsom Historic District\, Zittel Family Amphitheater - Folsom Historic District\, 200 Wool St\, Folsom\, CA\, 95630\, United States
CATEGORIES:MainStage,Performances
ATTACH;FMTTYPE=image/jpeg:https://takenotetroupe.org/wp-content/uploads/2026/02/TOTS-1x1-2_17.jpg
END:VEVENT
END:VCALENDAR