BEGIN:VCALENDAR
VERSION:2.0
PRODID:-//Take Note Troupe - ECPv6.15.20//NONSGML v1.0//EN
CALSCALE:GREGORIAN
METHOD:PUBLISH
X-ORIGINAL-URL:https://takenotetroupe.org
X-WR-CALDESC:Events for Take Note Troupe
REFRESH-INTERVAL;VALUE=DURATION:PT1H
X-Robots-Tag:noindex
X-PUBLISHED-TTL:PT1H
BEGIN:VTIMEZONE
TZID:America/Los_Angeles
BEGIN:DAYLIGHT
TZOFFSETFROM:-0800
TZOFFSETTO:-0700
TZNAME:PDT
DTSTART:20250309T100000
END:DAYLIGHT
BEGIN:STANDARD
TZOFFSETFROM:-0700
TZOFFSETTO:-0800
TZNAME:PST
DTSTART:20251102T090000
END:STANDARD
BEGIN:DAYLIGHT
TZOFFSETFROM:-0800
TZOFFSETTO:-0700
TZNAME:PDT
DTSTART:20260308T100000
END:DAYLIGHT
BEGIN:STANDARD
TZOFFSETFROM:-0700
TZOFFSETTO:-0800
TZNAME:PST
DTSTART:20261101T090000
END:STANDARD
BEGIN:DAYLIGHT
TZOFFSETFROM:-0800
TZOFFSETTO:-0700
TZNAME:PDT
DTSTART:20270314T100000
END:DAYLIGHT
BEGIN:STANDARD
TZOFFSETFROM:-0700
TZOFFSETTO:-0800
TZNAME:PST
DTSTART:20271107T090000
END:STANDARD
END:VTIMEZONE
BEGIN:VEVENT
DTSTART;TZID=America/Los_Angeles:20260717T190000
DTEND;TZID=America/Los_Angeles:20260717T203000
DTSTAMP:20260419T231523
CREATED:20260415T033750Z
LAST-MODIFIED:20260415T164236Z
UID:28884-1784314800-1784320200@takenotetroupe.org
SUMMARY:You're A Good Man Charlie Brown 7/17 Show - Children's Theater
DESCRIPTION:Digital Program\n\n\n\n\n\nCelebrate Resilience and self-acceptance \n\n\n\nStep into the charming\, heartwarming world of You’re a Good Man\, Charlie Brown—a delightful slice-of-life musical that brings the beloved Charlie Brown and the entire Peanuts gang to life. \n\n\n\nTold through a series of playful vignettes\, the show follows Charlie Brown as he navigates the ups and downs of childhood\, searching for a little happiness in an unpredictable world. Along the way\, familiar faces like the ever-confident Lucy van Pelt\, the blanket-loving Linus van Pelt\, musical prodigy Schroeder\, spirited Sally Brown\, and the imaginative Snoopy share their own hilarious and heartfelt moments. \n\n\n\nFull of catchy songs\, lighthearted humor\, and touching insights\, this timeless production celebrates the simple joys of friendship\, imagination\, and self-acceptance. Whether you grew up with these iconic characters or are meeting them for the first time\, You’re a Good Man\, Charlie Brown promises an uplifting theatrical experience that will leave you smiling. \n\n\n\nThis show is performed by high school students cast in the lead roles and an ensemble made up of children ages 8-18. Light concessions are available for purchase. Tickets go on sale June 18th (Friends of TNT presale starts June 15th)! \n\n\n\n\n\nTicketing Information\n\n\n\nTicket TypeDescriptionRegular PricePremium Wheelchair Seating(2) Two total tickets (1 Wheelchair Seating Space and 1 adjacent ticket). $44Premium SeatingSeating in the front two rows of the theater.$22Standard Wheelchair Seating(2) Two total tickets (1 Wheelchair Seating Space and 1 adjacent ticket). $36Standard Ticket: Adult/TeenRegular ticket pricing for those age 13 and older.$18Standard Ticket: ChildRegular ticket pricing for children under age 13.$12\n\n\n\n\n\nClick on “Pick your seats” below to view seating and purchase tickets.\n\n\n\n\n\n\n\n\n\n\n\n            Pick your seats\n            \n\n\n\n\n\n\nConcession Package\n\n\n\n\n\n\n\nAll performances are at Take Note Troupe’s Studio Theater
URL:https://takenotetroupe.org/event/youre-a-good-man-charlie-brown-7-17-show-childrens-theater/
LOCATION:Take Note Troupe Studio\, 9001 Foothills Blvd.\, Suite 130\, Roseville\, CA\, 95747\, United States
CATEGORIES:Children's Theater,Performances
ATTACH;FMTTYPE=image/png:https://takenotetroupe.org/wp-content/uploads/2026/03/CharlieBrown1x1.png
ORGANIZER;CN="Take Note Troupe":MAILTO:tntshows@gmail.com
END:VEVENT
END:VCALENDAR