BEGIN:VCALENDAR
VERSION:2.0
PRODID:-//Take Note Troupe - ECPv6.15.20//NONSGML v1.0//EN
CALSCALE:GREGORIAN
METHOD:PUBLISH
X-WR-CALNAME:Take Note Troupe
X-ORIGINAL-URL:https://takenotetroupe.org
X-WR-CALDESC:Events for Take Note Troupe
REFRESH-INTERVAL;VALUE=DURATION:PT1H
X-Robots-Tag:noindex
X-PUBLISHED-TTL:PT1H
BEGIN:VTIMEZONE
TZID:America/Los_Angeles
BEGIN:DAYLIGHT
TZOFFSETFROM:-0800
TZOFFSETTO:-0700
TZNAME:PDT
DTSTART:20250309T100000
END:DAYLIGHT
BEGIN:STANDARD
TZOFFSETFROM:-0700
TZOFFSETTO:-0800
TZNAME:PST
DTSTART:20251102T090000
END:STANDARD
BEGIN:DAYLIGHT
TZOFFSETFROM:-0800
TZOFFSETTO:-0700
TZNAME:PDT
DTSTART:20260308T100000
END:DAYLIGHT
BEGIN:STANDARD
TZOFFSETFROM:-0700
TZOFFSETTO:-0800
TZNAME:PST
DTSTART:20261101T090000
END:STANDARD
BEGIN:DAYLIGHT
TZOFFSETFROM:-0800
TZOFFSETTO:-0700
TZNAME:PDT
DTSTART:20270314T100000
END:DAYLIGHT
BEGIN:STANDARD
TZOFFSETFROM:-0700
TZOFFSETTO:-0800
TZNAME:PST
DTSTART:20271107T090000
END:STANDARD
END:VTIMEZONE
BEGIN:VEVENT
DTSTART;TZID=America/Los_Angeles:20260313T183000
DTEND;TZID=America/Los_Angeles:20260313T193000
DTSTAMP:20260419T182013
CREATED:20260120T015138Z
LAST-MODIFIED:20260413T204617Z
UID:26527-1773426600-1773430200@takenotetroupe.org
SUMMARY:Winnie the Pooh Kids 3/13 Show - Children's Theater
DESCRIPTION:Digital Program\n\n\n\n\n\nBased on the beloved characters of A.A. Milne and the 2011 Disney animated film\, TNT brings the Hundred Acre Wood to life on stage.\n\n\n\nJoin Pooh on his latest adventure as he searches for honey and meets up with his pals Tigger\, Piglet\, Rabbit\, and Owl. But when Christopher Robin suddenly disappears\, the friends band together to rescue him from the mysterious Backson! Along the way\, they learn about teamwork and friendship. \n\n\n\nFilled with favorite songs from the movie—along with new hits by Academy Award–winning composers Robert and Kristen Lopez (Frozen)—this honey-sweet musical is a delightful celebration of childhood. This is a children’s theater performance by elementary school students. Light concessions are available for purchase. \n\n\n\n\n\nTicketing Information\n\n\n\nTicket TypeDescriptionRegular PricePremium Wheelchair Seating(2) Two total tickets (1 Wheelchair Seating Space and 1 adjacent ticket). $30Premium SeatingSeating in the front two rows of the theater.$15Standard Wheelchair Seating(2) Two total tickets (1 Wheelchair Seating Space and 1 adjacent ticket). $24Standard Ticket: Adult/TeenRegular ticket pricing for those age 13 and older.$12Standard Ticket: ChildRegular ticket pricing for children under age 13.$10\n\n\n\n\n\nClick on “Pick your seats” below to view seating and purchase tickets.\n\n\n\n\n\n\n\n\n\n\n\n            Pick your seats\n            \n\n\n\n\n\n\nConcession Package\n\n\n\n\n\n\n\nAll performances are at Take Note Troupe’s Studio Theater
URL:https://takenotetroupe.org/event/winnie-the-pooh-kids-3-13-show/
LOCATION:Take Note Troupe Studio\, 9001 Foothills Blvd.\, Suite 130\, Roseville\, CA\, 95747\, United States
CATEGORIES:Children's Theater,Performances
ATTACH;FMTTYPE=image/png:https://takenotetroupe.org/wp-content/uploads/2026/01/Winnie-the-Pooh-1x1-1.png
ORGANIZER;CN="Take Note Troupe":MAILTO:tntshows@gmail.com
END:VEVENT
BEGIN:VEVENT
DTSTART;TZID=America/Los_Angeles:20260314T140000
DTEND;TZID=America/Los_Angeles:20260314T150000
DTSTAMP:20260419T182013
CREATED:20260119T220001Z
LAST-MODIFIED:20260413T204618Z
UID:26272-1773496800-1773500400@takenotetroupe.org
SUMMARY:Winnie the Pooh Kids 3/14 Matinee - Children's Theater
DESCRIPTION:Digital Program\n\n\n\n\n\nBased on the beloved characters of A.A. Milne and the 2011 Disney animated film\, TNT brings the Hundred Acre Wood to life on stage.\n\n\n\nJoin Pooh on his latest adventure as he searches for honey and meets up with his pals Tigger\, Piglet\, Rabbit\, and Owl. But when Christopher Robin suddenly disappears\, the friends band together to rescue him from the mysterious Backson! Along the way\, they learn about teamwork and friendship. \n\n\n\nFilled with favorite songs from the movie—along with new hits by Academy Award–winning composers Robert and Kristen Lopez (Frozen)—this honey-sweet musical is a delightful celebration of childhood. This is a children’s theater performance by elementary school students. Light concessions are available for purchase. \n\n\n\n\n\nTicketing Information\n\n\n\nTicket TypeDescriptionRegular PricePremium Wheelchair Seating(2) Two total tickets (1 Wheelchair Seating Space and 1 adjacent ticket). $30Premium SeatingSeating in the front two rows of the theater.$15Standard Wheelchair Seating(2) Two total tickets (1 Wheelchair Seating Space and 1 adjacent ticket). $24Standard Ticket: Adult/TeenRegular ticket pricing for those age 13 and older.$12Standard Ticket: ChildRegular ticket pricing for children under age 13.$10\n\n\n\n\n\nClick on “Pick your seats” below to view seating and purchase tickets.\n\n\n\n\n\n\n\n\n\n\n\n            Pick your seats\n            \n\n\n\n\n\n\nConcession Package\n\n\n\n\n\n\n\nAll performances are at Take Note Troupe’s Studio Theater
URL:https://takenotetroupe.org/event/winnie-the-pooh-kids/
LOCATION:Take Note Troupe Studio\, 9001 Foothills Blvd.\, Suite 130\, Roseville\, CA\, 95747\, United States
CATEGORIES:Children's Theater,Performances
ATTACH;FMTTYPE=image/png:https://takenotetroupe.org/wp-content/uploads/2026/01/Winnie-the-Pooh-1x1-1.png
ORGANIZER;CN="Take Note Troupe":MAILTO:tntshows@gmail.com
END:VEVENT
BEGIN:VEVENT
DTSTART;TZID=America/Los_Angeles:20260314T170000
DTEND;TZID=America/Los_Angeles:20260314T180000
DTSTAMP:20260419T182013
CREATED:20260116T000158Z
LAST-MODIFIED:20260413T204621Z
UID:26274-1773507600-1773511200@takenotetroupe.org
SUMMARY:Winnie the Pooh Kids 3/14 Show - Children's Theater
DESCRIPTION:Digital Program\n\n\n\n\n\nBased on the beloved characters of A.A. Milne and the 2011 Disney animated film\, TNT brings the Hundred Acre Wood to life on stage.\n\n\n\nJoin Pooh on his latest adventure as he searches for honey and meets up with his pals Tigger\, Piglet\, Rabbit\, and Owl. But when Christopher Robin suddenly disappears\, the friends band together to rescue him from the mysterious Backson! Along the way\, they learn about teamwork and friendship. \n\n\n\nFilled with favorite songs from the movie—along with new hits by Academy Award–winning composers Robert and Kristen Lopez (Frozen)—this honey-sweet musical is a delightful celebration of childhood. This is a children’s theater performance by elementary school students. Light concessions are available for purchase. \n\n\n\n\n\nTicketing Information\n\n\n\nTicket TypeDescriptionRegular PricePremium Wheelchair Seating(2) Two total tickets (1 Wheelchair Seating Space and 1 adjacent ticket). $30Premium SeatingSeating in the front two rows of the theater.$15Standard Wheelchair Seating(2) Two total tickets (1 Wheelchair Seating Space and 1 adjacent ticket). $24Standard Ticket: Adult/TeenRegular ticket pricing for those age 13 and older.$12Standard Ticket: ChildRegular ticket pricing for children under age 13.$10\n\n\n\n\n\nClick on “Pick your seats” below to view seating and purchase tickets.\n\n\n\n\n\n\n\n\n\n\n\n            Pick your seats\n            \n\n\n\n\n\n\nConcession Package\n\n\n\n\n\n\n\nAll performances are at Take Note Troupe’s Studio Theater
URL:https://takenotetroupe.org/event/winnie-the-pooh-kids-2/
LOCATION:Take Note Troupe Studio\, 9001 Foothills Blvd.\, Suite 130\, Roseville\, CA\, 95747\, United States
CATEGORIES:Children's Theater,Performances
ATTACH;FMTTYPE=image/png:https://takenotetroupe.org/wp-content/uploads/2026/01/Winnie-the-Pooh-1x1-1.png
ORGANIZER;CN="Take Note Troupe":MAILTO:tntshows@gmail.com
END:VEVENT
BEGIN:VEVENT
DTSTART;TZID=America/Los_Angeles:20260321T140000
DTEND;TZID=America/Los_Angeles:20260321T150000
DTSTAMP:20260419T182013
CREATED:20260120T015448Z
LAST-MODIFIED:20260413T204625Z
UID:26528-1774101600-1774105200@takenotetroupe.org
SUMMARY:Winnie the Pooh Kids 3/21 Matinee - Children's Theater
DESCRIPTION:Digital Program\n\n\n\n\n\nBased on the beloved characters of A.A. Milne and the 2011 Disney animated film\, TNT brings the Hundred Acre Wood to life on stage.\n\n\n\nJoin Pooh on his latest adventure as he searches for honey and meets up with his pals Tigger\, Piglet\, Rabbit\, and Owl. But when Christopher Robin suddenly disappears\, the friends band together to rescue him from the mysterious Backson! Along the way\, they learn about teamwork and friendship. \n\n\n\nFilled with favorite songs from the movie—along with new hits by Academy Award–winning composers Robert and Kristen Lopez (Frozen)—this honey-sweet musical is a delightful celebration of childhood. This is a children’s theater performance by elementary school students. Light concessions are available for purchase. \n\n\n\n\n\nTicketing Information\n\n\n\nTicket TypeDescriptionRegular PricePremium Wheelchair Seating(2) Two total tickets (1 Wheelchair Seating Space and 1 adjacent ticket). $30Premium SeatingSeating in the front two rows of the theater.$15Standard Wheelchair Seating(2) Two total tickets (1 Wheelchair Seating Space and 1 adjacent ticket). $24Standard Ticket: Adult/TeenRegular ticket pricing for those age 13 and older.$12Standard Ticket: ChildRegular ticket pricing for children under age 13.$10\n\n\n\n\n\nClick on “Pick your seats” below to view seating and purchase tickets.\n\n\n\n\n\n\n\n\n\n\n\n            Pick your seats\n            \n\n\n\n\n\n\nConcession Package\n\n\n\n\n\n\n\nAll performances are at Take Note Troupe’s Studio Theater
URL:https://takenotetroupe.org/event/winnie-the-pooh-kids-3-21-matinee/
LOCATION:Take Note Troupe Studio\, 9001 Foothills Blvd.\, Suite 130\, Roseville\, CA\, 95747\, United States
CATEGORIES:Children's Theater,Performances
ATTACH;FMTTYPE=image/png:https://takenotetroupe.org/wp-content/uploads/2026/01/Winnie-the-Pooh-1x1-1.png
ORGANIZER;CN="Take Note Troupe":MAILTO:tntshows@gmail.com
END:VEVENT
BEGIN:VEVENT
DTSTART;TZID=America/Los_Angeles:20260324T183000
DTEND;TZID=America/Los_Angeles:20260324T213000
DTSTAMP:20260419T182013
CREATED:20260225T215130Z
LAST-MODIFIED:20260326T001023Z
UID:27380-1774377000-1774387800@takenotetroupe.org
SUMMARY:Auditions: Peter and the Starcatcher
DESCRIPTION:We are thrilled to announce that in July 2026 we will be producing an audition-only show that will be open to ages 16 and up. We invite alumni\, parents of TNT participants\, and other community members to audition! The show will be Peter and the Starcatcher\, a play by Rick Elise. All rehearsals and performances will take place in July 2026. \n\n\n\nConsideration will be given to those who are out of the area and who wish to submit a video audition. Video auditions must be received by noon on March 17 March 24. Those who are interested in auditioning or in being a part of the production team can fill out this FORM. The audition sides and music can be found here.
URL:https://takenotetroupe.org/event/auditions-peter-and-the-starcatcher/
LOCATION:Take Note Troupe Studio\, 9001 Foothills Blvd.\, Suite 130\, Roseville\, CA\, 95747\, United States
CATEGORIES:Education,MainStage,Performances,Workshop
ATTACH;FMTTYPE=image/png:https://takenotetroupe.org/wp-content/uploads/2026/02/PATS-1x1-1.png
ORGANIZER;CN="Take Note Troupe":MAILTO:tntshows@gmail.com
END:VEVENT
END:VCALENDAR