BEGIN:VCALENDAR
VERSION:2.0
PRODID:-//Take Note Troupe - ECPv6.15.20//NONSGML v1.0//EN
CALSCALE:GREGORIAN
METHOD:PUBLISH
X-WR-CALNAME:Take Note Troupe
X-ORIGINAL-URL:https://takenotetroupe.org
X-WR-CALDESC:Events for Take Note Troupe
REFRESH-INTERVAL;VALUE=DURATION:PT1H
X-Robots-Tag:noindex
X-PUBLISHED-TTL:PT1H
BEGIN:VTIMEZONE
TZID:America/Los_Angeles
BEGIN:DAYLIGHT
TZOFFSETFROM:-0800
TZOFFSETTO:-0700
TZNAME:PDT
DTSTART:20240310T100000
END:DAYLIGHT
BEGIN:STANDARD
TZOFFSETFROM:-0700
TZOFFSETTO:-0800
TZNAME:PST
DTSTART:20241103T090000
END:STANDARD
BEGIN:DAYLIGHT
TZOFFSETFROM:-0800
TZOFFSETTO:-0700
TZNAME:PDT
DTSTART:20250309T100000
END:DAYLIGHT
BEGIN:STANDARD
TZOFFSETFROM:-0700
TZOFFSETTO:-0800
TZNAME:PST
DTSTART:20251102T090000
END:STANDARD
BEGIN:DAYLIGHT
TZOFFSETFROM:-0800
TZOFFSETTO:-0700
TZNAME:PDT
DTSTART:20260308T100000
END:DAYLIGHT
BEGIN:STANDARD
TZOFFSETFROM:-0700
TZOFFSETTO:-0800
TZNAME:PST
DTSTART:20261101T090000
END:STANDARD
END:VTIMEZONE
BEGIN:VEVENT
DTSTART;TZID=America/Los_Angeles:20251209T183000
DTEND;TZID=America/Los_Angeles:20251209T203000
DTSTAMP:20260422T084227
CREATED:20251122T195207Z
LAST-MODIFIED:20251122T200435Z
UID:21902-1765305000-1765312200@takenotetroupe.org
SUMMARY:Workshop with a Professional: Ryann Bailey
DESCRIPTION:TNT Alumna Ryann Bailey has been working professionally in film for the past 5 years with lead roles ranging from westerns\, to fantasy\, to period romance. Notable credits include Seeking Persephone\, Mythica Stormbound\, The Getaway\, The Rebel\, By His Hand\, and The Sheriffs of Savage Wells.Her work includes TV\, Lifetime\, and commercials working with brands such as Stanley Cup\, Built Bar\, Owala\, A&W\, Kodiak Cakes\, and more.The world of film acting can seem overwhelming\, from getting representation to filming a self-tape audition. Ryann Bailey wants to help de-mystify this industry. \n\n\n\nBring your questions and she will walk you through acting for film\, as well as her own journey from the stage at TNT to the big screen; whether you’re just curious about what it’s like or it’s your dream (like Ryann)!This workshop is open to the public ages 14+ — prior experience with TNT is not required to attend. TNT alumni and adults are welcome at this workshop!
URL:https://takenotetroupe.org/event/workshop-with-a-professional-ryann-bailey/
LOCATION:Take Note Troupe Studio\, 9001 Foothills Blvd.\, Suite 130\, Roseville\, CA\, 95747\, United States
CATEGORIES:Workshop
ATTACH;FMTTYPE=image/png:https://takenotetroupe.org/wp-content/uploads/2025/11/Workshop-With-a-Professinal.png
END:VEVENT
END:VCALENDAR