BEGIN:VCALENDAR
VERSION:2.0
PRODID:-//Take Note Troupe - ECPv6.15.20//NONSGML v1.0//EN
CALSCALE:GREGORIAN
METHOD:PUBLISH
X-WR-CALNAME:Take Note Troupe
X-ORIGINAL-URL:https://takenotetroupe.org
X-WR-CALDESC:Events for Take Note Troupe
REFRESH-INTERVAL;VALUE=DURATION:PT1H
X-Robots-Tag:noindex
X-PUBLISHED-TTL:PT1H
BEGIN:VTIMEZONE
TZID:America/Los_Angeles
BEGIN:DAYLIGHT
TZOFFSETFROM:-0800
TZOFFSETTO:-0700
TZNAME:PDT
DTSTART:20240310T100000
END:DAYLIGHT
BEGIN:STANDARD
TZOFFSETFROM:-0700
TZOFFSETTO:-0800
TZNAME:PST
DTSTART:20241103T090000
END:STANDARD
BEGIN:DAYLIGHT
TZOFFSETFROM:-0800
TZOFFSETTO:-0700
TZNAME:PDT
DTSTART:20250309T100000
END:DAYLIGHT
BEGIN:STANDARD
TZOFFSETFROM:-0700
TZOFFSETTO:-0800
TZNAME:PST
DTSTART:20251102T090000
END:STANDARD
BEGIN:DAYLIGHT
TZOFFSETFROM:-0800
TZOFFSETTO:-0700
TZNAME:PDT
DTSTART:20260308T100000
END:DAYLIGHT
BEGIN:STANDARD
TZOFFSETFROM:-0700
TZOFFSETTO:-0800
TZNAME:PST
DTSTART:20261101T090000
END:STANDARD
END:VTIMEZONE
BEGIN:VEVENT
DTSTART;TZID=America/Los_Angeles:20251117T160000
DTEND;TZID=America/Los_Angeles:20251117T180000
DTSTAMP:20260422T101258
CREATED:20251105T195036Z
LAST-MODIFIED:20251120T010247Z
UID:21556-1763395200-1763402400@takenotetroupe.org
SUMMARY:Improv Genres Play Theory Workshop
DESCRIPTION:Ages 12-18 will explore different TV and movie genres as it relates to improv theatre! \n\n\n\n✨ Special Offer: Bring a friend who’s NEW to TNT and you’ll get BOGO admission! That’s two participants for the price of one — double the fun\, double the PLAY THEORY! **If you enroll online\, leave us a note in the comments for the BOGO offer and their name.Sign up here to let us know you’re coming (but you can also drop in to the workshop and pay at the door). \n\n\n\nCome play\, practice happiness skills\, and grow your confidence on (and off) the stage!
URL:https://takenotetroupe.org/event/improv-genres-play-theory-workshop/
LOCATION:Take Note Troupe Studio\, 9001 Foothills Blvd.\, Suite 130\, Roseville\, CA\, 95747\, United States
CATEGORIES:Workshop
ATTACH;FMTTYPE=image/png:https://takenotetroupe.org/wp-content/uploads/2025/11/improv-genres-workshop-1x1-1.avif
END:VEVENT
END:VCALENDAR